BEGIN:VCALENDAR
VERSION:2.0
PRODID:-//Pretzel City Sports - ECPv5.1.5//NONSGML v1.0//EN
CALSCALE:GREGORIAN
METHOD:PUBLISH
X-WR-CALNAME:Pretzel City Sports
X-ORIGINAL-URL:https://www.pretzelcitysports.com
X-WR-CALDESC:Events for Pretzel City Sports
BEGIN:VTIMEZONE
TZID:America/New_York
BEGIN:DAYLIGHT
TZOFFSETFROM:-0500
TZOFFSETTO:-0400
TZNAME:EDT
DTSTART:20260308T070000
END:DAYLIGHT
BEGIN:STANDARD
TZOFFSETFROM:-0400
TZOFFSETTO:-0500
TZNAME:EST
DTSTART:20261101T060000
END:STANDARD
END:VTIMEZONE
BEGIN:VEVENT
DTSTART;TZID=America/New_York:20260515T184500
DTEND;TZID=America/New_York:20260515T184500
DTSTAMP:20260420T021536
CREATED:20260416T150508Z
LAST-MODIFIED:20260417T150146Z
UID:29219-1778870700-1778870700@www.pretzelcitysports.com
SUMMARY:Relay for Life Neon 5k and 1 Mile Fun Run/Walk
DESCRIPTION:Race Application \n
URL:https://www.pretzelcitysports.com/calendar_event/5k-neon-run/
LOCATION:Kaley Stadium at Greencastle-Antrim High School\, 300 S. Ridge Ave.\, Greencastle\, PA\, 17225
CATEGORIES:5k Neon Run
ORGANIZER;CN="Terin%20House":MAILTO:Terin.house@gmail.com
END:VEVENT
END:VCALENDAR