BEGIN:VCALENDAR
VERSION:2.0
PRODID:-//Pretzel City Sports - ECPv5.1.5//NONSGML v1.0//EN
CALSCALE:GREGORIAN
METHOD:PUBLISH
X-WR-CALNAME:Pretzel City Sports
X-ORIGINAL-URL:https://www.pretzelcitysports.com
X-WR-CALDESC:Events for Pretzel City Sports
BEGIN:VTIMEZONE
TZID:America/New_York
BEGIN:DAYLIGHT
TZOFFSETFROM:-0500
TZOFFSETTO:-0400
TZNAME:EDT
DTSTART:20200308T070000
END:DAYLIGHT
BEGIN:STANDARD
TZOFFSETFROM:-0400
TZOFFSETTO:-0500
TZNAME:EST
DTSTART:20201101T060000
END:STANDARD
END:VTIMEZONE
BEGIN:VEVENT
DTSTART;TZID=America/New_York:20200924T120000
DTEND;TZID=America/New_York:20201024T120000
DTSTAMP:20260424T232444
CREATED:20200930T131440Z
LAST-MODIFIED:20200930T131623Z
UID:16935-1600948800-1603540800@www.pretzelcitysports.com
SUMMARY:Animal Rescue League Strut Your Mutt Team- Virtual Walk
DESCRIPTION:For More Information \nCall Jen at 610-373-8830 x 120\, or email volunteer@berksarl.org \n
URL:https://www.pretzelcitysports.com/calendar_event/animal-rescue-league-strut-your-mutt-team-virtual-walk/
LOCATION:Virtual
CATEGORIES:Virtual
END:VEVENT
END:VCALENDAR