BEGIN:VCALENDAR
VERSION:2.0
PRODID:-//Pretzel City Sports - ECPv5.1.5//NONSGML v1.0//EN
CALSCALE:GREGORIAN
METHOD:PUBLISH
X-WR-CALNAME:Pretzel City Sports
X-ORIGINAL-URL:https://www.pretzelcitysports.com
X-WR-CALDESC:Events for Pretzel City Sports
BEGIN:VTIMEZONE
TZID:America/New_York
BEGIN:DAYLIGHT
TZOFFSETFROM:-0500
TZOFFSETTO:-0400
TZNAME:EDT
DTSTART:20200308T070000
END:DAYLIGHT
BEGIN:STANDARD
TZOFFSETFROM:-0400
TZOFFSETTO:-0500
TZNAME:EST
DTSTART:20201101T060000
END:STANDARD
TZID:America/New_York
BEGIN:DAYLIGHT
TZOFFSETFROM:-0500
TZOFFSETTO:-0400
TZNAME:EDT
DTSTART:20200308T070000
END:DAYLIGHT
BEGIN:STANDARD
TZOFFSETFROM:-0400
TZOFFSETTO:-0500
TZNAME:EST
DTSTART:20201101T060000
END:STANDARD
END:VTIMEZONE
BEGIN:VEVENT
DTSTART;TZID=America/New_York:20201024T070000
DTEND;TZID=America/New_York:20201101T190000
DTSTAMP:20260424T070941
CREATED:20200923T022744Z
LAST-MODIFIED:20200923T022744Z
UID:16879-1603522800-1604257200@www.pretzelcitysports.com
SUMMARY:Smash Out MS Virtual 5k Run/Walk/Hike
DESCRIPTION:Race Application \nOnline Registration closes 5:00 pm Nov. 1st\n5k Online Registration\n10k Online Registration \nEmail Questions to: crubbo@comcast.net \n
URL:https://www.pretzelcitysports.com/calendar_event/smash-out-ms-virtual-5k-run-walk-hike/
LOCATION:Northern Lehigh High School\, 1 Bulldog lane\, Slatington\, PA\, United States
CATEGORIES:5k/10k Virtual Run/Walk/Hike
END:VEVENT
BEGIN:VEVENT
DTSTART;TZID=America/New_York:20201031T090000
DTEND;TZID=America/New_York:20201031T090000
DTSTAMP:20260424T070941
CREATED:20170502T152614Z
LAST-MODIFIED:20200821T045743Z
UID:3659-1604134800-1604134800@www.pretzelcitysports.com
SUMMARY:Gravel Hill’s Fall Feeding Frenzy 5k
DESCRIPTION:Race Application\nOnline Registration \n
URL:https://www.pretzelcitysports.com/calendar_event/gravel-hills-fall-feeding-frenzy-5k/
LOCATION:Londonderry Village\, 1200 Grubb Hill Rd.\, Palmyra\, PA\, 17078
CATEGORIES:5k Road
END:VEVENT
BEGIN:VEVENT
DTSTART;TZID=America/New_York:20201031T093000
DTEND;TZID=America/New_York:20201031T113000
DTSTAMP:20260424T070941
CREATED:20201022T221241Z
LAST-MODIFIED:20201022T221241Z
UID:17089-1604136600-1604143800@www.pretzelcitysports.com
SUMMARY:5k for Freedom: Break the Silence
DESCRIPTION:Race Information \nQuestions?  Email: anikeheller@gmail.com or 5kforfreedom2k19@gmail.com  \n
URL:https://www.pretzelcitysports.com/calendar_event/5k-for-freedom-break-the-silence-2/
LOCATION:West Shore Free Church\, 1345 Williams Grove Rd\, Mechanicsburg\, PA\, 17055
CATEGORIES:5k Road
END:VEVENT
BEGIN:VEVENT
DTSTART;TZID=America/New_York:20201031T100000
DTEND;TZID=America/New_York:20201031T100000
DTSTAMP:20260424T070941
CREATED:20200805T144751Z
LAST-MODIFIED:20200805T144816Z
UID:16567-1604138400-1604138400@www.pretzelcitysports.com
SUMMARY:Pumpkin Pickup 5k and 1 Mile Kids Race
DESCRIPTION:Race Application\nOnline Registration \n
URL:https://www.pretzelcitysports.com/calendar_event/pumpkin-pickup-5k-and-1-mile-kids-race/
LOCATION:Blue Mountain Resort\, 1660 Blue Mountain Drive\, Palmerton\, PA\, 18071
CATEGORIES:5k Trail
ORGANIZER;CN="Aimee%20Kohler":MAILTO:aklohler@skibluemt.com
END:VEVENT
END:VCALENDAR