BEGIN:VCALENDAR
VERSION:2.0
PRODID:-//Pretzel City Sports - ECPv5.1.5//NONSGML v1.0//EN
CALSCALE:GREGORIAN
METHOD:PUBLISH
X-WR-CALNAME:Pretzel City Sports
X-ORIGINAL-URL:https://www.pretzelcitysports.com
X-WR-CALDESC:Events for Pretzel City Sports
BEGIN:VTIMEZONE
TZID:America/New_York
BEGIN:DAYLIGHT
TZOFFSETFROM:-0500
TZOFFSETTO:-0400
TZNAME:EDT
DTSTART:20200308T070000
END:DAYLIGHT
BEGIN:STANDARD
TZOFFSETFROM:-0400
TZOFFSETTO:-0500
TZNAME:EST
DTSTART:20201101T060000
END:STANDARD
END:VTIMEZONE
BEGIN:VEVENT
DTSTART;TZID=America/New_York:20201205T090000
DTEND;TZID=America/New_York:20201205T090000
DTSTAMP:20260421T194827
CREATED:20190621T123452Z
LAST-MODIFIED:20200521T031139Z
UID:4771-1607158800-1607158800@www.pretzelcitysports.com
SUMMARY:Donner Dash 5k Run/Walk - CANCELLED
DESCRIPTION:This event has been Cancelled –   Pretzel City Sports has no involvement with the decisions relating to the event. Please check out their website for more details before contacting the Race Director with your questions\nRace Application\nOnline Registration – Closed \nRace Director Contact INFO  (717) 443-2609   Email:  lrbbuster@gmail.com \n
URL:https://www.pretzelcitysports.com/calendar_event/donner-dash-5k-run-walk/
LOCATION:New Cumberland Borough Park\, Front St. & Geary Ave\, New Cumberland\, PA\, 17070
CATEGORIES:5k Road
END:VEVENT
END:VCALENDAR