BEGIN:VCALENDAR
VERSION:2.0
PRODID:-//Pretzel City Sports - ECPv5.1.5//NONSGML v1.0//EN
CALSCALE:GREGORIAN
METHOD:PUBLISH
X-WR-CALNAME:Pretzel City Sports
X-ORIGINAL-URL:https://www.pretzelcitysports.com
X-WR-CALDESC:Events for Pretzel City Sports
BEGIN:VTIMEZONE
TZID:America/New_York
BEGIN:DAYLIGHT
TZOFFSETFROM:-0500
TZOFFSETTO:-0400
TZNAME:EDT
DTSTART:20210314T070000
END:DAYLIGHT
BEGIN:STANDARD
TZOFFSETFROM:-0400
TZOFFSETTO:-0500
TZNAME:EST
DTSTART:20211107T060000
END:STANDARD
END:VTIMEZONE
BEGIN:VEVENT
DTSTART;TZID=America/New_York:20210728T183000
DTEND;TZID=America/New_York:20210728T183000
DTSTAMP:20260422T011116
CREATED:20190326T170542Z
LAST-MODIFIED:20210317T062309Z
UID:12004-1627497000-1627497000@www.pretzelcitysports.com
SUMMARY:Hump Day 5k Wednesday Night Summer Trail Series - Race 3/5
DESCRIPTION:Race Application\nOnline Registration closes 7/26 \n  \n
URL:https://www.pretzelcitysports.com/calendar_event/hump-day-5k-wednesday-night-summer-trail-series-race-3/
LOCATION:Blue Mountain Resort\, 1660 Blue Mountain Drive\, Palmerton\, PA\, 18071
CATEGORIES:5k Trail
ORGANIZER;CN="Aimee%20Kohler":MAILTO:aklohler@skibluemt.com
END:VEVENT
END:VCALENDAR