BEGIN:VCALENDAR
VERSION:2.0
PRODID:-//Pretzel City Sports - ECPv5.1.5//NONSGML v1.0//EN
CALSCALE:GREGORIAN
METHOD:PUBLISH
X-WR-CALNAME:Pretzel City Sports
X-ORIGINAL-URL:https://www.pretzelcitysports.com
X-WR-CALDESC:Events for Pretzel City Sports
BEGIN:VTIMEZONE
TZID:America/New_York
BEGIN:DAYLIGHT
TZOFFSETFROM:-0500
TZOFFSETTO:-0400
TZNAME:EDT
DTSTART:20210314T070000
END:DAYLIGHT
BEGIN:STANDARD
TZOFFSETFROM:-0400
TZOFFSETTO:-0500
TZNAME:EST
DTSTART:20211107T060000
END:STANDARD
END:VTIMEZONE
BEGIN:VEVENT
DTSTART;TZID=America/New_York:20210813T080000
DTEND;TZID=America/New_York:20210815T200000
DTSTAMP:20260423T081455
CREATED:20210615T174659Z
LAST-MODIFIED:20210615T174659Z
UID:18154-1628841600-1629057600@www.pretzelcitysports.com
SUMMARY:Viking Grind 4x4x48 Challenge
DESCRIPTION:More information \nQuestions: email: neillyw@outlook.com or text: 717-222-2508 \n
URL:https://www.pretzelcitysports.com/calendar_event/viking-grind-4x4x48-challenge/
LOCATION:Northern Lebanon High School\, 345 School Dr.\, Fredericksburg\, PA\, 17026
CATEGORIES:48 Hr.
END:VEVENT
BEGIN:VEVENT
DTSTART;TZID=America/New_York:20210814T070000
DTEND;TZID=America/New_York:20210814T140000
DTSTAMP:20260423T081455
CREATED:20210713T043711Z
LAST-MODIFIED:20210713T044135Z
UID:18292-1628924400-1628949600@www.pretzelcitysports.com
SUMMARY:Warrior Trail Half and Quarter Marathon
DESCRIPTION:Race Application \nFor more information and to register online\, go to RUNegades.com \n½ Marathon rolling start between 7:00 and 8:00 am.\n¼ Marathon rolling start between 8:00 and 8:30 am.   \n
URL:https://www.pretzelcitysports.com/calendar_event/warrior-trail-half-and-quarter-marathon/
LOCATION:West Bank of Susquehanna River\, 100 N. Susquehanna Ave.\, Shickshinny\, PA
CATEGORIES:1/2 Marathon Trail,1/4 Marathon
END:VEVENT
END:VCALENDAR