BEGIN:VCALENDAR
VERSION:2.0
PRODID:-//Pretzel City Sports - ECPv5.1.5//NONSGML v1.0//EN
CALSCALE:GREGORIAN
METHOD:PUBLISH
X-WR-CALNAME:Pretzel City Sports
X-ORIGINAL-URL:https://www.pretzelcitysports.com
X-WR-CALDESC:Events for Pretzel City Sports
BEGIN:VTIMEZONE
TZID:America/New_York
BEGIN:DAYLIGHT
TZOFFSETFROM:-0500
TZOFFSETTO:-0400
TZNAME:EDT
DTSTART:20210314T070000
END:DAYLIGHT
BEGIN:STANDARD
TZOFFSETFROM:-0400
TZOFFSETTO:-0500
TZNAME:EST
DTSTART:20211107T060000
END:STANDARD
END:VTIMEZONE
BEGIN:VEVENT
DTSTART;TZID=America/New_York:20210821T083000
DTEND;TZID=America/New_York:20210821T083000
DTSTAMP:20260423T191138
CREATED:20190813T174652Z
LAST-MODIFIED:20210727T163003Z
UID:13437-1629534600-1629534600@www.pretzelcitysports.com
SUMMARY:Camelot for Children 5k
DESCRIPTION:Race Information \n
URL:https://www.pretzelcitysports.com/calendar_event/camelot-5k/
LOCATION:Goodman Stadium\, 124 Goodman Dr.\, Bethlehem\, PA
CATEGORIES:5k Cross Country Style
END:VEVENT
END:VCALENDAR