BEGIN:VCALENDAR
VERSION:2.0
PRODID:-//Pretzel City Sports - ECPv5.1.5//NONSGML v1.0//EN
CALSCALE:GREGORIAN
METHOD:PUBLISH
X-WR-CALNAME:Pretzel City Sports
X-ORIGINAL-URL:https://www.pretzelcitysports.com
X-WR-CALDESC:Events for Pretzel City Sports
BEGIN:VTIMEZONE
TZID:America/New_York
BEGIN:DAYLIGHT
TZOFFSETFROM:-0500
TZOFFSETTO:-0400
TZNAME:EDT
DTSTART:20210314T070000
END:DAYLIGHT
BEGIN:STANDARD
TZOFFSETFROM:-0400
TZOFFSETTO:-0500
TZNAME:EST
DTSTART:20211107T060000
END:STANDARD
TZID:America/New_York
BEGIN:DAYLIGHT
TZOFFSETFROM:-0500
TZOFFSETTO:-0400
TZNAME:EDT
DTSTART:20210314T070000
END:DAYLIGHT
BEGIN:STANDARD
TZOFFSETFROM:-0400
TZOFFSETTO:-0500
TZNAME:EST
DTSTART:20211107T060000
END:STANDARD
END:VTIMEZONE
BEGIN:VEVENT
DTSTART;TZID=America/New_York:20210910T070000
DTEND;TZID=America/New_York:20211017T160000
DTSTAMP:20260425T014830
CREATED:20190815T062727Z
LAST-MODIFIED:20210910T025506Z
UID:13472-1631257200-1634486400@www.pretzelcitysports.com
SUMMARY:Dash for Empowerment 5k Run/Walk - is NOW Virtual Only
DESCRIPTION: The 5k In person race has been cancelled – This will Now be a Virtual Race Only \nRace Application  Please disregard In Person 5k information on race app\nOnline Registration \nQUESTIONS: Call Michele at 717-273-8118\,   mumberger@paquest.com \n
URL:https://www.pretzelcitysports.com/calendar_event/dash-for-empowerment-5k-run-walk/
LOCATION:Virtual
CATEGORIES:5k Virtual
END:VEVENT
BEGIN:VEVENT
DTSTART;TZID=America/New_York:20210911T090000
DTEND;TZID=America/New_York:20210911T090000
DTSTAMP:20260425T014830
CREATED:20180727T151118Z
LAST-MODIFIED:20230823T135119Z
UID:9689-1631350800-1631350800@www.pretzelcitysports.com
SUMMARY:Mulligans & Shinsplints 5k/10k Run/Fun Run
DESCRIPTION:Race Application \n  \n  \n
URL:https://www.pretzelcitysports.com/calendar_event/mulligans-and-shinsplints-5k-10k-run-walk/
LOCATION:Bethel\, PA\, Bethel\, PA
CATEGORIES:5k/10k Road
ORGANIZER;CN="Bill%20Myers":MAILTO:bill@vivakids.org
END:VEVENT
BEGIN:VEVENT
DTSTART;TZID=America/New_York:20210911T090000
DTEND;TZID=America/New_York:20210911T090000
DTSTAMP:20260425T014830
CREATED:20210715T162452Z
LAST-MODIFIED:20210715T162452Z
UID:18319-1631350800-1631350800@www.pretzelcitysports.com
SUMMARY:Sasquatch Preservation Trail Run 5k/10k
DESCRIPTION:Race Application\nOnline Registration \n
URL:https://www.pretzelcitysports.com/calendar_event/sasquatch-preservation-trail-run-5k-10k/
LOCATION:South Branch Farms\, 6259 Reynolds Mill Rd.\, Seven Valleys\, PA
CATEGORIES:10k Trail,5k Trail
ORGANIZER;CN="Sean%20Kenny":MAILTO:skenny@farmtrust.org
END:VEVENT
END:VCALENDAR