BEGIN:VCALENDAR
VERSION:2.0
PRODID:-//Pretzel City Sports - ECPv5.1.5//NONSGML v1.0//EN
CALSCALE:GREGORIAN
METHOD:PUBLISH
X-WR-CALNAME:Pretzel City Sports
X-ORIGINAL-URL:https://www.pretzelcitysports.com
X-WR-CALDESC:Events for Pretzel City Sports
BEGIN:VTIMEZONE
TZID:America/New_York
BEGIN:DAYLIGHT
TZOFFSETFROM:-0500
TZOFFSETTO:-0400
TZNAME:EDT
DTSTART:20210314T070000
END:DAYLIGHT
BEGIN:STANDARD
TZOFFSETFROM:-0400
TZOFFSETTO:-0500
TZNAME:EST
DTSTART:20211107T060000
END:STANDARD
TZID:America/New_York
BEGIN:DAYLIGHT
TZOFFSETFROM:-0500
TZOFFSETTO:-0400
TZNAME:EDT
DTSTART:20210314T070000
END:DAYLIGHT
BEGIN:STANDARD
TZOFFSETFROM:-0400
TZOFFSETTO:-0500
TZNAME:EST
DTSTART:20211107T060000
END:STANDARD
END:VTIMEZONE
BEGIN:VEVENT
DTSTART;TZID=America/New_York:20210910T070000
DTEND;TZID=America/New_York:20211017T160000
DTSTAMP:20260425T121946
CREATED:20190815T062727Z
LAST-MODIFIED:20210910T025506Z
UID:13472-1631257200-1634486400@www.pretzelcitysports.com
SUMMARY:Dash for Empowerment 5k Run/Walk - is NOW Virtual Only
DESCRIPTION: The 5k In person race has been cancelled – This will Now be a Virtual Race Only \nRace Application  Please disregard In Person 5k information on race app\nOnline Registration \nQUESTIONS: Call Michele at 717-273-8118\,   mumberger@paquest.com \n
URL:https://www.pretzelcitysports.com/calendar_event/dash-for-empowerment-5k-run-walk/
LOCATION:Virtual
CATEGORIES:5k Virtual
END:VEVENT
BEGIN:VEVENT
DTSTART;TZID=America/New_York:20210918T090000
DTEND;TZID=America/New_York:20210918T090000
DTSTAMP:20260425T121946
CREATED:20170831T120203Z
LAST-MODIFIED:20210825T034528Z
UID:5582-1631955600-1631955600@www.pretzelcitysports.com
SUMMARY:Totally 80's East Pete 5k and Kids Fun Run
DESCRIPTION:Race Application \nQuestions or concerns\, email:   info@eastpetersburgday.com \nKids Fun Run starts at 8:30am \n  \n
URL:https://www.pretzelcitysports.com/calendar_event/totally-80s-east-pete-5k-and-kids-fun-run/
LOCATION:East Petersburg Community Center\, 6051 Pine St.\, East Petersburg\, PA\, 17520
CATEGORIES:5k Road
END:VEVENT
END:VCALENDAR