BEGIN:VCALENDAR
VERSION:2.0
PRODID:-//Pretzel City Sports - ECPv5.1.5//NONSGML v1.0//EN
CALSCALE:GREGORIAN
METHOD:PUBLISH
X-WR-CALNAME:Pretzel City Sports
X-ORIGINAL-URL:https://www.pretzelcitysports.com
X-WR-CALDESC:Events for Pretzel City Sports
BEGIN:VTIMEZONE
TZID:America/New_York
BEGIN:DAYLIGHT
TZOFFSETFROM:-0500
TZOFFSETTO:-0400
TZNAME:EDT
DTSTART:20210314T070000
END:DAYLIGHT
BEGIN:STANDARD
TZOFFSETFROM:-0400
TZOFFSETTO:-0500
TZNAME:EST
DTSTART:20211107T060000
END:STANDARD
END:VTIMEZONE
BEGIN:VEVENT
DTSTART;TZID=America/New_York:20210910T070000
DTEND;TZID=America/New_York:20211017T160000
DTSTAMP:20260426T014823
CREATED:20190815T062727Z
LAST-MODIFIED:20210910T025506Z
UID:13472-1631257200-1634486400@www.pretzelcitysports.com
SUMMARY:Dash for Empowerment 5k Run/Walk - is NOW Virtual Only
DESCRIPTION: The 5k In person race has been cancelled – This will Now be a Virtual Race Only \nRace Application  Please disregard In Person 5k information on race app\nOnline Registration \nQUESTIONS: Call Michele at 717-273-8118\,   mumberger@paquest.com \n
URL:https://www.pretzelcitysports.com/calendar_event/dash-for-empowerment-5k-run-walk/
LOCATION:Virtual
CATEGORIES:5k Virtual
END:VEVENT
BEGIN:VEVENT
DTSTART;TZID=America/New_York:20210925T071500
DTEND;TZID=America/New_York:20210925T071500
DTSTAMP:20260426T014823
CREATED:20210914T193953Z
LAST-MODIFIED:20210914T193953Z
UID:18806-1632554100-1632554100@www.pretzelcitysports.com
SUMMARY:Linville Hill 5k
DESCRIPTION:Race Information \n
URL:https://www.pretzelcitysports.com/calendar_event/linville-hill-5k/
LOCATION:Linville Hill Christian School\, 295 South Kinzer Road\, Paradise\, PA
CATEGORIES:5k Road
END:VEVENT
BEGIN:VEVENT
DTSTART;TZID=America/New_York:20210925T090000
DTEND;TZID=America/New_York:20210925T120000
DTSTAMP:20260426T014823
CREATED:20210803T032243Z
LAST-MODIFIED:20210803T032243Z
UID:18438-1632560400-1632571200@www.pretzelcitysports.com
SUMMARY:You Matter 5k - Pregnancy Resource Clinic's Annual Walk Run Ride
DESCRIPTION:Race Flyer \n
URL:https://www.pretzelcitysports.com/calendar_event/you-matter-5k-pregnancy-resource-clinics-annual-walk-run-ride/
LOCATION:Stepping Stones Community Church\, 848 Science Park Road\, State College\, PA
CATEGORIES:5k Road
END:VEVENT
END:VCALENDAR