BEGIN:VCALENDAR
VERSION:2.0
PRODID:-//Pretzel City Sports - ECPv5.1.5//NONSGML v1.0//EN
CALSCALE:GREGORIAN
METHOD:PUBLISH
X-WR-CALNAME:Pretzel City Sports
X-ORIGINAL-URL:https://www.pretzelcitysports.com
X-WR-CALDESC:Events for Pretzel City Sports
BEGIN:VTIMEZONE
TZID:America/New_York
BEGIN:DAYLIGHT
TZOFFSETFROM:-0500
TZOFFSETTO:-0400
TZNAME:EDT
DTSTART:20220313T070000
END:DAYLIGHT
BEGIN:STANDARD
TZOFFSETFROM:-0400
TZOFFSETTO:-0500
TZNAME:EST
DTSTART:20221106T060000
END:STANDARD
END:VTIMEZONE
BEGIN:VEVENT
DTSTART;TZID=America/New_York:20220731T090000
DTEND;TZID=America/New_York:20220731T090000
DTSTAMP:20260425T221104
CREATED:20220412T132344Z
LAST-MODIFIED:20220412T133257Z
UID:20146-1659258000-1659258000@www.pretzelcitysports.com
SUMMARY:'Half-Wit' Half Marathon & Quarter-Wit Half-A-Half REDO 13.1 Mile Trail Run & 6.55 Mile Trail Run
DESCRIPTION:Race Application \nOnline Registration \n
URL:https://www.pretzelcitysports.com/calendar_event/half-wit-half-marathon-quarter-wit-half-a-half-redo-13-1-mile-trail-run-6-55-mile-trail-run/
LOCATION:Reading Liederkranz German Singing & Sports Club\, 143 Spook Lane\, Reading\, PA
CATEGORIES:1/2 Marathon Trail,1/4 Marathon Trail
ORGANIZER;CN="Ron%20Horn":MAILTO:rhornpcs@aol.com
END:VEVENT
END:VCALENDAR