BEGIN:VCALENDAR
VERSION:2.0
PRODID:-//Pretzel City Sports - ECPv5.1.5//NONSGML v1.0//EN
CALSCALE:GREGORIAN
METHOD:PUBLISH
X-WR-CALNAME:Pretzel City Sports
X-ORIGINAL-URL:https://www.pretzelcitysports.com
X-WR-CALDESC:Events for Pretzel City Sports
BEGIN:VTIMEZONE
TZID:America/New_York
BEGIN:DAYLIGHT
TZOFFSETFROM:-0500
TZOFFSETTO:-0400
TZNAME:EDT
DTSTART:20220313T070000
END:DAYLIGHT
BEGIN:STANDARD
TZOFFSETFROM:-0400
TZOFFSETTO:-0500
TZNAME:EST
DTSTART:20221106T060000
END:STANDARD
TZID:America/New_York
BEGIN:DAYLIGHT
TZOFFSETFROM:-0500
TZOFFSETTO:-0400
TZNAME:EDT
DTSTART:20220313T070000
END:DAYLIGHT
BEGIN:STANDARD
TZOFFSETFROM:-0400
TZOFFSETTO:-0500
TZNAME:EST
DTSTART:20221106T060000
END:STANDARD
END:VTIMEZONE
BEGIN:VEVENT
DTSTART;TZID=America/New_York:20220803T190000
DTEND;TZID=America/New_York:20220803T190000
DTSTAMP:20260425T172604
CREATED:20170613T152859Z
LAST-MODIFIED:20220616T130440Z
UID:4336-1659553200-1659553200@www.pretzelcitysports.com
SUMMARY:Broad Street Hilltown 5k and Mile Fun Run
DESCRIPTION:Race Application \n1 Mile Fun Run starts at 6:30 PM\n5k Race starts at 7:00 PM \n  \n  \n
URL:https://www.pretzelcitysports.com/calendar_event/broad-street-hilltown-5k-race-1-mile-fun-run/
LOCATION:Our Lady of the Sacred Heart Church\, 100 Broad St\, Perkasie\, PA\, 18927
CATEGORIES:5k Road
ORGANIZER;CN="Todd%20Bixby":MAILTO:hasselblad120@gmail.com
END:VEVENT
BEGIN:VEVENT
DTSTART;TZID=America/New_York:20220803T190000
DTEND;TZID=America/New_York:20220803T190000
DTSTAMP:20260425T172604
CREATED:20220620T150729Z
LAST-MODIFIED:20220620T150729Z
UID:20680-1659553200-1659553200@www.pretzelcitysports.com
SUMMARY:Phils Tavern 5k - presented by the Ambler Running Club
DESCRIPTION:Questions or Concerns: phils@aarclub.com\, https://aarc.wildapricot.org/Phils5k \n
URL:https://www.pretzelcitysports.com/calendar_event/phils-tavern-5k-presented-by-the-ambler-running-club/
LOCATION:Ambler\, PA
END:VEVENT
END:VCALENDAR