BEGIN:VCALENDAR
VERSION:2.0
PRODID:-//Pretzel City Sports - ECPv5.1.5//NONSGML v1.0//EN
CALSCALE:GREGORIAN
METHOD:PUBLISH
X-WR-CALNAME:Pretzel City Sports
X-ORIGINAL-URL:https://www.pretzelcitysports.com
X-WR-CALDESC:Events for Pretzel City Sports
BEGIN:VTIMEZONE
TZID:America/New_York
BEGIN:DAYLIGHT
TZOFFSETFROM:-0500
TZOFFSETTO:-0400
TZNAME:EDT
DTSTART:20220313T070000
END:DAYLIGHT
BEGIN:STANDARD
TZOFFSETFROM:-0400
TZOFFSETTO:-0500
TZNAME:EST
DTSTART:20221106T060000
END:STANDARD
TZID:America/New_York
BEGIN:DAYLIGHT
TZOFFSETFROM:-0500
TZOFFSETTO:-0400
TZNAME:EDT
DTSTART:20220313T070000
END:DAYLIGHT
BEGIN:STANDARD
TZOFFSETFROM:-0400
TZOFFSETTO:-0500
TZNAME:EST
DTSTART:20221106T060000
END:STANDARD
END:VTIMEZONE
BEGIN:VEVENT
DTSTART;TZID=America/New_York:20220813T083000
DTEND;TZID=America/New_York:20220813T083000
DTSTAMP:20260425T002609
CREATED:20220707T140550Z
LAST-MODIFIED:20220728T133229Z
UID:20780-1660379400-1660379400@www.pretzelcitysports.com
SUMMARY:Mind over Miles 5k and Fun Run - Race CANCELLED
DESCRIPTION:Race Cancelled – Contact Race Director with questions or concerns \nRace Application \n
URL:https://www.pretzelcitysports.com/calendar_event/mind-over-miles-5k-and-fun-run/
LOCATION:North Schuylkill Jr. / Sr. High School\, 15 Academy Lane\, Ashland\, PA\, 17921
CATEGORIES:5k Road
END:VEVENT
BEGIN:VEVENT
DTSTART;TZID=America/New_York:20220813T170000
DTEND;TZID=America/New_York:20220813T230000
DTSTAMP:20260425T002609
CREATED:20180621T031057Z
LAST-MODIFIED:20220516T155853Z
UID:9254-1660410000-1660431600@www.pretzelcitysports.com
SUMMARY:Phoenixville XC 6-Hour Relay & Solo Ultra-Challenge
DESCRIPTION:Ultra & Relay \n
URL:https://www.pretzelcitysports.com/calendar_event/phoenixville-6-hour-relay-solo-ultra-challenge/
LOCATION:Phoenixville\, Pa
CATEGORIES:6 hour Relay or Solo Ultra Challenge
ORGANIZER;CN="Justin%20Winters":MAILTO:justinwinters8@gmail.com
END:VEVENT
END:VCALENDAR