BEGIN:VCALENDAR
VERSION:2.0
PRODID:-//Pretzel City Sports - ECPv5.1.5//NONSGML v1.0//EN
CALSCALE:GREGORIAN
METHOD:PUBLISH
X-WR-CALNAME:Pretzel City Sports
X-ORIGINAL-URL:https://www.pretzelcitysports.com
X-WR-CALDESC:Events for Pretzel City Sports
BEGIN:VTIMEZONE
TZID:America/New_York
BEGIN:DAYLIGHT
TZOFFSETFROM:-0500
TZOFFSETTO:-0400
TZNAME:EDT
DTSTART:20220313T070000
END:DAYLIGHT
BEGIN:STANDARD
TZOFFSETFROM:-0400
TZOFFSETTO:-0500
TZNAME:EST
DTSTART:20221106T060000
END:STANDARD
TZID:America/New_York
BEGIN:DAYLIGHT
TZOFFSETFROM:-0500
TZOFFSETTO:-0400
TZNAME:EDT
DTSTART:20220313T070000
END:DAYLIGHT
BEGIN:STANDARD
TZOFFSETFROM:-0400
TZOFFSETTO:-0500
TZNAME:EST
DTSTART:20221106T060000
END:STANDARD
END:VTIMEZONE
BEGIN:VEVENT
DTSTART;TZID=America/New_York:20220910T090000
DTEND;TZID=America/New_York:20220910T090000
DTSTAMP:20260422T222748
CREATED:20180130T185803Z
LAST-MODIFIED:20220906T184016Z
UID:7178-1662800400-1662800400@www.pretzelcitysports.com
SUMMARY:The Creamery Hustle 5k & 10k Walk/Run - CANCELLED
DESCRIPTION:Event has been CANCELLED – look for a rescheduled date  \n  \n5k @9:00am \n10 @9:15am \n
URL:https://www.pretzelcitysports.com/calendar_event/the-creamery-hustle-5k-and-10k-walk-run/
LOCATION:Reading\, PA
CATEGORIES:5k/10k Road
ORGANIZER;CN="Steve%20Elliker":MAILTO:SteveElliker@gmail.com
END:VEVENT
BEGIN:VEVENT
DTSTART;TZID=America/New_York:20220910T091500
DTEND;TZID=America/New_York:20220910T091500
DTSTAMP:20260422T222748
CREATED:20220429T123106Z
LAST-MODIFIED:20220429T123239Z
UID:20307-1662801300-1662801300@www.pretzelcitysports.com
SUMMARY:Race Back to School 5k
DESCRIPTION:Race Flyer \nrunsignup.com/yorkacademy \n
URL:https://www.pretzelcitysports.com/calendar_event/race-back-to-school-5k/
LOCATION:York Academy Lower School\, 32 W. North Street\, York\, PA\, 17401
CATEGORIES:5k Road
ORGANIZER;CN="Benjamin%20Michael":MAILTO:benjaminalan@icloud.com
END:VEVENT
BEGIN:VEVENT
DTSTART;TZID=America/New_York:20220910T100000
DTEND;TZID=America/New_York:20220910T100000
DTSTAMP:20260422T222748
CREATED:20220513T145122Z
LAST-MODIFIED:20220513T145122Z
UID:20415-1662804000-1662804000@www.pretzelcitysports.com
SUMMARY:Cycle Out Homelessness 5k Run/Walk & 1 Mile Fun Run/Walk
DESCRIPTION:Race Application\nOnline Registration \n
URL:https://www.pretzelcitysports.com/calendar_event/cycle-out-homelessness-5k-run-walk-1-mile-fun-run-walk/
LOCATION:Weissport Borough Park (accross from Mario’s Pizza)\, 200 White St.\, Weissport\, PA
CATEGORIES:5k Road
ORGANIZER;CN="Jaimie%20Phelps":MAILTO:director@familypromisecarboncounty.org
END:VEVENT
END:VCALENDAR