BEGIN:VCALENDAR
VERSION:2.0
PRODID:-//Pretzel City Sports - ECPv5.1.5//NONSGML v1.0//EN
CALSCALE:GREGORIAN
METHOD:PUBLISH
X-WR-CALNAME:Pretzel City Sports
X-ORIGINAL-URL:https://www.pretzelcitysports.com
X-WR-CALDESC:Events for Pretzel City Sports
BEGIN:VTIMEZONE
TZID:America/New_York
BEGIN:DAYLIGHT
TZOFFSETFROM:-0500
TZOFFSETTO:-0400
TZNAME:EDT
DTSTART:20220313T070000
END:DAYLIGHT
BEGIN:STANDARD
TZOFFSETFROM:-0400
TZOFFSETTO:-0500
TZNAME:EST
DTSTART:20221106T060000
END:STANDARD
END:VTIMEZONE
BEGIN:VEVENT
DTSTART;TZID=America/New_York:20220924T070000
DTEND;TZID=America/New_York:20220924T070000
DTSTAMP:20260421T183825
CREATED:20220818T175348Z
LAST-MODIFIED:20220818T175543Z
UID:21088-1664002800-1664002800@www.pretzelcitysports.com
SUMMARY:March for the Fallen; 28 Mile March\, 14 Mile March\, 5k Run/Walk
DESCRIPTION:Race Info \nbit.ly/usomarchforthefallen \n
URL:https://www.pretzelcitysports.com/calendar_event/march-for-the-fallen-28-mile-march-14-mile-march-5k-run-walk/
LOCATION:Strickle Field on Fort Idiantown Gap\, Hospital Road\, Annville\, PA
CATEGORIES:28 &14 Mile March with or with weighted pack,5k Run/Walk and 28 Mile Virtual Handcycle
END:VEVENT
BEGIN:VEVENT
DTSTART;TZID=America/New_York:20220924T071500
DTEND;TZID=America/New_York:20220924T071500
DTSTAMP:20260421T183825
CREATED:20220819T172243Z
LAST-MODIFIED:20220819T172243Z
UID:21112-1664003700-1664003700@www.pretzelcitysports.com
SUMMARY:Linville Hill Christian School 5k
DESCRIPTION:Race Flyer \n
URL:https://www.pretzelcitysports.com/calendar_event/linville-hill-christian-school-5k/
LOCATION:Linville Hill Christian School\, 295 South Kinzer Road\, Paradise\, PA
CATEGORIES:5k Road
END:VEVENT
END:VCALENDAR