BEGIN:VCALENDAR
VERSION:2.0
PRODID:-//Pretzel City Sports - ECPv5.1.5//NONSGML v1.0//EN
CALSCALE:GREGORIAN
METHOD:PUBLISH
X-WR-CALNAME:Pretzel City Sports
X-ORIGINAL-URL:https://www.pretzelcitysports.com
X-WR-CALDESC:Events for Pretzel City Sports
BEGIN:VTIMEZONE
TZID:America/New_York
BEGIN:DAYLIGHT
TZOFFSETFROM:-0500
TZOFFSETTO:-0400
TZNAME:EDT
DTSTART:20220313T070000
END:DAYLIGHT
BEGIN:STANDARD
TZOFFSETFROM:-0400
TZOFFSETTO:-0500
TZNAME:EST
DTSTART:20221106T060000
END:STANDARD
TZID:America/New_York
BEGIN:DAYLIGHT
TZOFFSETFROM:-0500
TZOFFSETTO:-0400
TZNAME:EDT
DTSTART:20220313T070000
END:DAYLIGHT
BEGIN:STANDARD
TZOFFSETFROM:-0400
TZOFFSETTO:-0500
TZNAME:EST
DTSTART:20221106T060000
END:STANDARD
END:VTIMEZONE
BEGIN:VEVENT
DTSTART;TZID=America/New_York:20220925T090000
DTEND;TZID=America/New_York:20220925T090000
DTSTAMP:20260421T170003
CREATED:20180522T035650Z
LAST-MODIFIED:20220715T143355Z
UID:8894-1664096400-1664096400@www.pretzelcitysports.com
SUMMARY:ZERO Prostate Cancer 5k- Philadelphia
DESCRIPTION:5k @ 9:00am; 1 mile walk @9:10am \n
URL:https://www.pretzelcitysports.com/calendar_event/zero-prostate-cancer-5k-philadelphia/
LOCATION:Wayne\, PA\, Wayne\, PA\, United States
CATEGORIES:5k Road
ORGANIZER;CN="Kathryn%20Lorenz":MAILTO:kathryn@ckrunningevents.com
END:VEVENT
BEGIN:VEVENT
DTSTART;TZID=America/New_York:20220925T090000
DTEND;TZID=America/New_York:20220925T090000
DTSTAMP:20260421T170003
CREATED:20220310T181727Z
LAST-MODIFIED:20220310T181727Z
UID:19840-1664096400-1664096400@www.pretzelcitysports.com
SUMMARY:Wayne's Warriors
DESCRIPTION:Questions/ Concerns: 484-529-7685 aimeestephan87@gmail.com  \n
URL:https://www.pretzelcitysports.com/calendar_event/waynes-warriors/
LOCATION:Birdsboro\, Birdsboro\, PA
CATEGORIES:5k Road
END:VEVENT
BEGIN:VEVENT
DTSTART;TZID=America/New_York:20220925T090000
DTEND;TZID=America/New_York:20220925T090000
DTSTAMP:20260421T170003
CREATED:20220805T160247Z
LAST-MODIFIED:20220807T194605Z
UID:20976-1664096400-1664096400@www.pretzelcitysports.com
SUMMARY:Family Fun 5k Run
DESCRIPTION:Race Application\nOnline Registration \n
URL:https://www.pretzelcitysports.com/calendar_event/family-fun-5k-run/
LOCATION:East Pennsboro Area High School Stadium\, 425 W. Shady Lane\, Enola\, PA
CATEGORIES:5k Road
ORGANIZER;CN="Adam%20Hoover":MAILTO:EPFamily5k@gmail.com
END:VEVENT
END:VCALENDAR