BEGIN:VCALENDAR
VERSION:2.0
PRODID:-//Pretzel City Sports - ECPv5.1.5//NONSGML v1.0//EN
CALSCALE:GREGORIAN
METHOD:PUBLISH
X-WR-CALNAME:Pretzel City Sports
X-ORIGINAL-URL:https://www.pretzelcitysports.com
X-WR-CALDESC:Events for Pretzel City Sports
BEGIN:VTIMEZONE
TZID:America/New_York
BEGIN:DAYLIGHT
TZOFFSETFROM:-0500
TZOFFSETTO:-0400
TZNAME:EDT
DTSTART:20220313T070000
END:DAYLIGHT
BEGIN:STANDARD
TZOFFSETFROM:-0400
TZOFFSETTO:-0500
TZNAME:EST
DTSTART:20221106T060000
END:STANDARD
END:VTIMEZONE
BEGIN:VEVENT
DTSTART;TZID=America/New_York:20221008T100000
DTEND;TZID=America/New_York:20221008T100000
DTSTAMP:20260421T174422
CREATED:20220217T134100Z
LAST-MODIFIED:20220217T134100Z
UID:19674-1665223200-1665223200@www.pretzelcitysports.com
SUMMARY:Halloween Hussle 5k & Kids Fun Run
DESCRIPTION:Race Application\nOnline Registration \nQuestions or Concerns: 717-993-2255 or email info@harp-online.org \n
URL:https://www.pretzelcitysports.com/calendar_event/halloween-hussle-5k-kids-fun-run/
LOCATION:Hopewell Area Recreation Complex Park\, 4295 Plank Road\, Stewartstown\, PA\, 17363
CATEGORIES:5k Road
END:VEVENT
END:VCALENDAR