BEGIN:VCALENDAR
VERSION:2.0
PRODID:-//Pretzel City Sports - ECPv5.1.5//NONSGML v1.0//EN
CALSCALE:GREGORIAN
METHOD:PUBLISH
X-WR-CALNAME:Pretzel City Sports
X-ORIGINAL-URL:https://www.pretzelcitysports.com
X-WR-CALDESC:Events for Pretzel City Sports
BEGIN:VTIMEZONE
TZID:America/New_York
BEGIN:DAYLIGHT
TZOFFSETFROM:-0500
TZOFFSETTO:-0400
TZNAME:EDT
DTSTART:20220313T070000
END:DAYLIGHT
BEGIN:STANDARD
TZOFFSETFROM:-0400
TZOFFSETTO:-0500
TZNAME:EST
DTSTART:20221106T060000
END:STANDARD
END:VTIMEZONE
BEGIN:VEVENT
DTSTART;TZID=America/New_York:20221016T090000
DTEND;TZID=America/New_York:20221016T090000
DTSTAMP:20260422T062716
CREATED:20210905T042058Z
LAST-MODIFIED:20220608T152244Z
UID:18691-1665910800-1665910800@www.pretzelcitysports.com
SUMMARY:Indian Valley YMCA Monster Dash 5k and 1 Mile Fun Run
DESCRIPTION:Race Application\nOnline Registration  Closes at midnight Oct. 12th \nRace Questions: wendym@NorthPennYMCA.org \n
URL:https://www.pretzelcitysports.com/calendar_event/indian-valley-ymca-monster-dash-5k-and-1-mile-fun-run/
LOCATION:Indian Valley Family YMCA\, 890 Maple Ave\, Harleysville\, PA\, 19438\, United States
CATEGORIES:5k Road
END:VEVENT
END:VCALENDAR