BEGIN:VCALENDAR
VERSION:2.0
PRODID:-//Pretzel City Sports - ECPv5.1.5//NONSGML v1.0//EN
CALSCALE:GREGORIAN
METHOD:PUBLISH
X-WR-CALNAME:Pretzel City Sports
X-ORIGINAL-URL:https://www.pretzelcitysports.com
X-WR-CALDESC:Events for Pretzel City Sports
BEGIN:VTIMEZONE
TZID:America/New_York
BEGIN:DAYLIGHT
TZOFFSETFROM:-0500
TZOFFSETTO:-0400
TZNAME:EDT
DTSTART:20220313T070000
END:DAYLIGHT
BEGIN:STANDARD
TZOFFSETFROM:-0400
TZOFFSETTO:-0500
TZNAME:EST
DTSTART:20221106T060000
END:STANDARD
END:VTIMEZONE
BEGIN:VEVENT
DTSTART;TZID=America/New_York:20221029T090000
DTEND;TZID=America/New_York:20221029T090000
DTSTAMP:20260423T061030
CREATED:20200916T035817Z
LAST-MODIFIED:20221004T141814Z
UID:16820-1667034000-1667034000@www.pretzelcitysports.com
SUMMARY:Fall Fitness Fest 5k/10k with Virtual Option - Cancelled 
DESCRIPTION:Race is Cancelled – please contact Race Director with Questions or Concerns\nRace Application\n \n  \n
URL:https://www.pretzelcitysports.com/calendar_event/fall-fitness-fest-5k/
LOCATION:Lehigh Carbon Community College\, 4525 Education Park Drive\, Schnecksville\, PA
CATEGORIES:5k/10k Road
ORGANIZER;CN="Jane%20Wilchak":MAILTO:jwilchak@lccc.edu
END:VEVENT
BEGIN:VEVENT
DTSTART;TZID=America/New_York:20221029T163000
DTEND;TZID=America/New_York:20221029T163000
DTSTAMP:20260423T061030
CREATED:20220929T152027Z
LAST-MODIFIED:20221025T144443Z
UID:21431-1667061000-1667061000@www.pretzelcitysports.com
SUMMARY:Goblin & Ghoul Gallop 2.2 Miler Cross Country Run & Halloween Festivities
DESCRIPTION:Event Flyer\nRace Limit Met – No Day of Race Registration Available \n
URL:https://www.pretzelcitysports.com/calendar_event/goblin-ghoul-gallop-2-2-miler-cross-country-run-halloween-festivities/
LOCATION:Shamrock Reins\, 32 Ervin Road\, Pipersville\, PA\, 18947
CATEGORIES:2.2 Mile Cross Country Run
END:VEVENT
END:VCALENDAR