BEGIN:VCALENDAR
VERSION:2.0
PRODID:-//Pretzel City Sports - ECPv5.1.5//NONSGML v1.0//EN
CALSCALE:GREGORIAN
METHOD:PUBLISH
X-WR-CALNAME:Pretzel City Sports
X-ORIGINAL-URL:https://www.pretzelcitysports.com
X-WR-CALDESC:Events for Pretzel City Sports
BEGIN:VTIMEZONE
TZID:America/New_York
BEGIN:DAYLIGHT
TZOFFSETFROM:-0500
TZOFFSETTO:-0400
TZNAME:EDT
DTSTART:20220313T070000
END:DAYLIGHT
BEGIN:STANDARD
TZOFFSETFROM:-0400
TZOFFSETTO:-0500
TZNAME:EST
DTSTART:20221106T060000
END:STANDARD
TZID:America/New_York
BEGIN:DAYLIGHT
TZOFFSETFROM:-0500
TZOFFSETTO:-0400
TZNAME:EDT
DTSTART:20220313T070000
END:DAYLIGHT
BEGIN:STANDARD
TZOFFSETFROM:-0400
TZOFFSETTO:-0500
TZNAME:EST
DTSTART:20221106T060000
END:STANDARD
END:VTIMEZONE
BEGIN:VEVENT
DTSTART;TZID=America/New_York:20221112T083000
DTEND;TZID=America/New_York:20221112T083000
DTSTAMP:20260424T022330
CREATED:20221108T155827Z
LAST-MODIFIED:20221108T155827Z
UID:21707-1668241800-1668241800@www.pretzelcitysports.com
SUMMARY:DV Turkey Trot 5K
DESCRIPTION:https://dvturkeytrot.wixsite.com/dvtt \n
URL:https://www.pretzelcitysports.com/calendar_event/dv-turkey-trot-5k/
LOCATION:Milford\, PA\, Milford\, PA
CATEGORIES:5k Trail
END:VEVENT
BEGIN:VEVENT
DTSTART;TZID=America/New_York:20221112T100000
DTEND;TZID=America/New_York:20221112T100000
DTSTAMP:20260424T022330
CREATED:20180204T201055Z
LAST-MODIFIED:20220908T002129Z
UID:7235-1668247200-1668247200@www.pretzelcitysports.com
SUMMARY:Sprains and Strains 5k and the Hangnail 1 Mile Fun Run/Walk
DESCRIPTION:Race Application\nOnline Registration \nQuestions or Concerns contact the Race Director or Ashley Care email:  carea@muhlsk12.net \n  \n
URL:https://www.pretzelcitysports.com/calendar_event/sprains-and-strains-5k-run-walk-and-the-hangnail-1-mile-fun-run-walk/
LOCATION:Gaige Technology & Business Bldg. @ Penn State Berks Campus\, 1801 Broadcasting Blvd.\, Reading\, PA\, 19610
CATEGORIES:5k Road
ORGANIZER;CN="Danielle%20Miller":MAILTO:daniellemiller@ovsdpa.org
END:VEVENT
BEGIN:VEVENT
DTSTART;TZID=America/New_York:20221112T110000
DTEND;TZID=America/New_York:20221112T160000
DTSTAMP:20260424T022330
CREATED:20180416T151007Z
LAST-MODIFIED:20220628T122938Z
UID:8321-1668250800-1668268800@www.pretzelcitysports.com
SUMMARY:The Zombie Fun Run
DESCRIPTION:Info@Zombiefunrun.com \nWaves every 30 mins. from 11:00-4:00pm \n
URL:https://www.pretzelcitysports.com/calendar_event/the-zombie-fun-run/
LOCATION:Mountville\, PA\, Mountville\, PA
CATEGORIES:5k Fun Run
END:VEVENT
END:VCALENDAR