BEGIN:VCALENDAR
VERSION:2.0
PRODID:-//Pretzel City Sports - ECPv5.1.5//NONSGML v1.0//EN
CALSCALE:GREGORIAN
METHOD:PUBLISH
X-WR-CALNAME:Pretzel City Sports
X-ORIGINAL-URL:https://www.pretzelcitysports.com
X-WR-CALDESC:Events for Pretzel City Sports
BEGIN:VTIMEZONE
TZID:America/New_York
BEGIN:DAYLIGHT
TZOFFSETFROM:-0500
TZOFFSETTO:-0400
TZNAME:EDT
DTSTART:20220313T070000
END:DAYLIGHT
BEGIN:STANDARD
TZOFFSETFROM:-0400
TZOFFSETTO:-0500
TZNAME:EST
DTSTART:20221106T060000
END:STANDARD
END:VTIMEZONE
BEGIN:VEVENT
DTSTART;TZID=America/New_York:20221119T090000
DTEND;TZID=America/New_York:20221119T090000
DTSTAMP:20260424T141839
CREATED:20201008T142716Z
LAST-MODIFIED:20220223T165811Z
UID:16985-1668848400-1668848400@www.pretzelcitysports.com
SUMMARY:Pawsitive Pace 5k and 1 Mile Fun Run
DESCRIPTION:Race Application \nOnline Registration \n
URL:https://www.pretzelcitysports.com/calendar_event/pawsitive-pace-5k-and-1-mile-fun-run/
LOCATION:Fork & Ale – municipal lower lot\, 1281 E Main St\, Douglassville\, PA\, 19518\, United States
CATEGORIES:5k Road
ORGANIZER;CN="Stacy%20Lord":MAILTO:stacyllord@gmail.com
END:VEVENT
END:VCALENDAR