BEGIN:VCALENDAR
VERSION:2.0
PRODID:-//Pretzel City Sports - ECPv5.1.5//NONSGML v1.0//EN
CALSCALE:GREGORIAN
METHOD:PUBLISH
X-WR-CALNAME:Pretzel City Sports
X-ORIGINAL-URL:https://www.pretzelcitysports.com
X-WR-CALDESC:Events for Pretzel City Sports
BEGIN:VTIMEZONE
TZID:America/New_York
BEGIN:DAYLIGHT
TZOFFSETFROM:-0500
TZOFFSETTO:-0400
TZNAME:EDT
DTSTART:20220313T070000
END:DAYLIGHT
BEGIN:STANDARD
TZOFFSETFROM:-0400
TZOFFSETTO:-0500
TZNAME:EST
DTSTART:20221106T060000
END:STANDARD
END:VTIMEZONE
BEGIN:VEVENT
DTSTART;TZID=America/New_York:20221126T100000
DTEND;TZID=America/New_York:20221126T100000
DTSTAMP:20260424T232910
CREATED:20171022T134341Z
LAST-MODIFIED:20221109T151559Z
UID:6219-1669456800-1669456800@www.pretzelcitysports.com
SUMMARY:ShareJOY 5k Run - VIRTUAL Only
DESCRIPTION:As of 11/9/22 this race is Virtual Only – Please contact the race director with questions or concerns \nRace Info \nRegistration \n
URL:https://www.pretzelcitysports.com/calendar_event/sharejoy-5k/
LOCATION:Virtual Race\, United States
CATEGORIES:5k Virtual
END:VEVENT
END:VCALENDAR