BEGIN:VCALENDAR
VERSION:2.0
PRODID:-//Pretzel City Sports - ECPv5.1.5//NONSGML v1.0//EN
CALSCALE:GREGORIAN
METHOD:PUBLISH
X-WR-CALNAME:Pretzel City Sports
X-ORIGINAL-URL:https://www.pretzelcitysports.com
X-WR-CALDESC:Events for Pretzel City Sports
BEGIN:VTIMEZONE
TZID:America/New_York
BEGIN:DAYLIGHT
TZOFFSETFROM:-0500
TZOFFSETTO:-0400
TZNAME:EDT
DTSTART:20230312T070000
END:DAYLIGHT
BEGIN:STANDARD
TZOFFSETFROM:-0400
TZOFFSETTO:-0500
TZNAME:EST
DTSTART:20231105T060000
END:STANDARD
END:VTIMEZONE
BEGIN:VEVENT
DTSTART;TZID=America/New_York:20230527T083000
DTEND;TZID=America/New_York:20230527T083000
DTSTAMP:20260424T115059
CREATED:20220307T171420Z
LAST-MODIFIED:20230331T145035Z
UID:19778-1685176200-1685176200@www.pretzelcitysports.com
SUMMARY:Mount Bethel Cemetery Memorial 5k - 2nd Annual
DESCRIPTION:Race Application\nQuestions or Concerns: 717-681-6788 or email friendsofmtbethel@gmail.com \n
URL:https://www.pretzelcitysports.com/calendar_event/mount-bethel-cemetery-memorial-5k/
LOCATION:Columbia High School.\, 901 Ironville Pike\, Columbia\, PA\, 17512
CATEGORIES:5k Road
END:VEVENT
END:VCALENDAR