BEGIN:VCALENDAR
VERSION:2.0
PRODID:-//Pretzel City Sports - ECPv5.1.5//NONSGML v1.0//EN
CALSCALE:GREGORIAN
METHOD:PUBLISH
X-WR-CALNAME:Pretzel City Sports
X-ORIGINAL-URL:https://www.pretzelcitysports.com
X-WR-CALDESC:Events for Pretzel City Sports
BEGIN:VTIMEZONE
TZID:America/New_York
BEGIN:DAYLIGHT
TZOFFSETFROM:-0500
TZOFFSETTO:-0400
TZNAME:EDT
DTSTART:20230312T070000
END:DAYLIGHT
BEGIN:STANDARD
TZOFFSETFROM:-0400
TZOFFSETTO:-0500
TZNAME:EST
DTSTART:20231105T060000
END:STANDARD
END:VTIMEZONE
BEGIN:VEVENT
DTSTART;TZID=America/New_York:20230617T090000
DTEND;TZID=America/New_York:20230617T090000
DTSTAMP:20260422T225038
CREATED:20180228T143802Z
LAST-MODIFIED:20230515T135617Z
UID:7570-1686992400-1686992400@www.pretzelcitysports.com
SUMMARY:LLS/Team Decker 5k Walk/Run & Tricky Tray - POSTPONED
DESCRIPTION:As of 5/15 this race has been POSTPONED due to health issue. \nPlease check back for Fall Rescheduled date. \nQuestions or concerns\, please contact the Race Director \nRace Application\nOnline Registration – closed \n
URL:https://www.pretzelcitysports.com/calendar_event/lls-team-decker-5k-walk-run/
LOCATION:Notre Dame High School at Green Pond\, 3417 Church Road\, Easton\, PA\, 18045
CATEGORIES:5k Road
ORGANIZER;CN="Eugene%20M.%20Decker":MAILTO:doctorcoach87@aol.com
END:VEVENT
END:VCALENDAR