BEGIN:VCALENDAR
VERSION:2.0
PRODID:-//Pretzel City Sports - ECPv5.1.5//NONSGML v1.0//EN
CALSCALE:GREGORIAN
METHOD:PUBLISH
X-WR-CALNAME:Pretzel City Sports
X-ORIGINAL-URL:https://www.pretzelcitysports.com
X-WR-CALDESC:Events for Pretzel City Sports
BEGIN:VTIMEZONE
TZID:America/New_York
BEGIN:DAYLIGHT
TZOFFSETFROM:-0500
TZOFFSETTO:-0400
TZNAME:EDT
DTSTART:20250309T070000
END:DAYLIGHT
BEGIN:STANDARD
TZOFFSETFROM:-0400
TZOFFSETTO:-0500
TZNAME:EST
DTSTART:20251102T060000
END:STANDARD
END:VTIMEZONE
BEGIN:VEVENT
DTSTART;TZID=America/New_York:20250119T100000
DTEND;TZID=America/New_York:20250119T100000
DTSTAMP:20260422T020309
CREATED:20190117T171803Z
LAST-MODIFIED:20250118T185044Z
UID:11303-1737280800-1737280800@www.pretzelcitysports.com
SUMMARY:Chilly Cheeks 11k Trail Run - POSTPONED - New Date 1/26/25
DESCRIPTION:Due to the now earlier arrival of snow on race day-  \nThe Race is now POSTPONED until Sun. Jan. 26th \nChilly Cheeks app \nChilly Cheeks Registration – is now reopened until midnight Thurs. Jan. 23rd \n
URL:https://www.pretzelcitysports.com/calendar_event/chilly-cheeks-11k-trail-run-2/
LOCATION:Reading Liederkranz German Singing & Sports Club\, 143 Spook Lane\, Reading\, PA
CATEGORIES:11k Trail Run
ORGANIZER;CN="Ron%20Horn":MAILTO:rhornpcs@aol.com
END:VEVENT
END:VCALENDAR