BEGIN:VCALENDAR
VERSION:2.0
PRODID:-//Pretzel City Sports - ECPv5.1.5//NONSGML v1.0//EN
CALSCALE:GREGORIAN
METHOD:PUBLISH
X-WR-CALNAME:Pretzel City Sports
X-ORIGINAL-URL:https://www.pretzelcitysports.com
X-WR-CALDESC:Events for Pretzel City Sports
BEGIN:VTIMEZONE
TZID:America/New_York
BEGIN:DAYLIGHT
TZOFFSETFROM:-0500
TZOFFSETTO:-0400
TZNAME:EDT
DTSTART:20250309T070000
END:DAYLIGHT
BEGIN:STANDARD
TZOFFSETFROM:-0400
TZOFFSETTO:-0500
TZNAME:EST
DTSTART:20251102T060000
END:STANDARD
END:VTIMEZONE
BEGIN:VEVENT
DTSTART;TZID=America/New_York:20250216T100000
DTEND;TZID=America/New_York:20250216T100000
DTSTAMP:20260423T232420
CREATED:20250208T012631Z
LAST-MODIFIED:20250208T012631Z
UID:26478-1739700000-1739700000@www.pretzelcitysports.com
SUMMARY:Shiver by the River 5k & 10k Winter Race Series - Race 3/4  (Rescheduled Date)
DESCRIPTION:Race Application \nQuestion can be directed to:  \nSue Jackson   610-780-4588 \nGeorgine McCool   610-927-1606 \n
URL:https://www.pretzelcitysports.com/calendar_event/shiver-by-the-river-5k-10k-winter-race-series-race-3-4-rescheduled-date/
LOCATION:Jim Dietrich Park\, 4899 Stoudt's Ferry Bridge Rd\, Reading\, PA\, 19605\, United States
CATEGORIES:5k/10k Road
ORGANIZER;CN="Sue%20Jackson":MAILTO:shiverdirector@pagodapacers.com
END:VEVENT
END:VCALENDAR