BEGIN:VCALENDAR
VERSION:2.0
PRODID:-//Pretzel City Sports - ECPv5.1.5//NONSGML v1.0//EN
CALSCALE:GREGORIAN
METHOD:PUBLISH
X-WR-CALNAME:Pretzel City Sports
X-ORIGINAL-URL:https://www.pretzelcitysports.com
X-WR-CALDESC:Events for Pretzel City Sports
BEGIN:VTIMEZONE
TZID:America/New_York
BEGIN:DAYLIGHT
TZOFFSETFROM:-0500
TZOFFSETTO:-0400
TZNAME:EDT
DTSTART:20250309T070000
END:DAYLIGHT
BEGIN:STANDARD
TZOFFSETFROM:-0400
TZOFFSETTO:-0500
TZNAME:EST
DTSTART:20251102T060000
END:STANDARD
END:VTIMEZONE
BEGIN:VEVENT
DTSTART;TZID=America/New_York:20250308T093000
DTEND;TZID=America/New_York:20250308T093000
DTSTAMP:20260425T171406
CREATED:20240329T155349Z
LAST-MODIFIED:20240329T155349Z
UID:24569-1741426200-1741426200@www.pretzelcitysports.com
SUMMARY:Run for the Hills 10 Mile & 4 Mile Races
DESCRIPTION:Race Application\nOnline Registration \n
URL:https://www.pretzelcitysports.com/calendar_event/run-for-the-hills-10-mile-4-mile-races/
LOCATION:Pfaff Elementary School\, 1600 Sleepy Hollow Rd\, Quakertown\, PA\, 18951\, United States
CATEGORIES:10M Road,4M Road
ORGANIZER;CN="Bill%20Tuszynski":MAILTO:bill.tuszynski@gmail.com
END:VEVENT
END:VCALENDAR