BEGIN:VCALENDAR
VERSION:2.0
PRODID:-//Pretzel City Sports - ECPv5.1.5//NONSGML v1.0//EN
CALSCALE:GREGORIAN
METHOD:PUBLISH
X-WR-CALNAME:Pretzel City Sports
X-ORIGINAL-URL:https://www.pretzelcitysports.com
X-WR-CALDESC:Events for Pretzel City Sports
BEGIN:VTIMEZONE
TZID:America/New_York
BEGIN:DAYLIGHT
TZOFFSETFROM:-0500
TZOFFSETTO:-0400
TZNAME:EDT
DTSTART:20250309T070000
END:DAYLIGHT
BEGIN:STANDARD
TZOFFSETFROM:-0400
TZOFFSETTO:-0500
TZNAME:EST
DTSTART:20251102T060000
END:STANDARD
END:VTIMEZONE
BEGIN:VEVENT
DTSTART;TZID=America/New_York:20250518T080000
DTEND;TZID=America/New_York:20250518T080000
DTSTAMP:20260425T175859
CREATED:20220310T185753Z
LAST-MODIFIED:20250123T163938Z
UID:19847-1747555200-1747555200@www.pretzelcitysports.com
SUMMARY:The USATF Coventry Woods 5k & 10k Trail Challenge
DESCRIPTION:Race Application \n10k @ 8:00 Am\n5k @ 8:15 Am \n
URL:https://www.pretzelcitysports.com/calendar_event/coventry-woods-5k-10k-trail-challenge/
LOCATION:Coventry Woods Park\, 1954 Saint Peters Rdl\, Pottstown\, Pa
CATEGORIES:10k Trail,5k Trail
ORGANIZER;CN="Michael%20Ragozzino":MAILTO:info@runegades.com
END:VEVENT
BEGIN:VEVENT
DTSTART;TZID=America/New_York:20250518T100000
DTEND;TZID=America/New_York:20250518T100000
DTSTAMP:20260425T175859
CREATED:20191004T124317Z
LAST-MODIFIED:20250318T145336Z
UID:13990-1747562400-1747562400@www.pretzelcitysports.com
SUMMARY:Run for Riley 5k
DESCRIPTION:Race Application\nOnline Registration \n  \n
URL:https://www.pretzelcitysports.com/calendar_event/run-for-riley-5k/
LOCATION:Grings Mill Recreation Center\, 2083 Tulpehocken Rd.\, Reading\, PA\, 19610
CATEGORIES:5k Road
ORGANIZER;CN="Joanna%20Schlottman":MAILTO:Hulksmashcancer@gmail.com
END:VEVENT
END:VCALENDAR