BEGIN:VCALENDAR
VERSION:2.0
PRODID:-//Pretzel City Sports - ECPv5.1.5//NONSGML v1.0//EN
CALSCALE:GREGORIAN
METHOD:PUBLISH
X-WR-CALNAME:Pretzel City Sports
X-ORIGINAL-URL:https://www.pretzelcitysports.com
X-WR-CALDESC:Events for Pretzel City Sports
BEGIN:VTIMEZONE
TZID:America/New_York
BEGIN:DAYLIGHT
TZOFFSETFROM:-0500
TZOFFSETTO:-0400
TZNAME:EDT
DTSTART:20250309T070000
END:DAYLIGHT
BEGIN:STANDARD
TZOFFSETFROM:-0400
TZOFFSETTO:-0500
TZNAME:EST
DTSTART:20251102T060000
END:STANDARD
END:VTIMEZONE
BEGIN:VEVENT
DTSTART;TZID=America/New_York:20250608T080000
DTEND;TZID=America/New_York:20250608T080000
DTSTAMP:20260424T074609
CREATED:20250410T183510Z
LAST-MODIFIED:20250530T135712Z
UID:26789-1749369600-1749369600@www.pretzelcitysports.com
SUMMARY:Race Out Fires 5k Run & 1 Mile Kids Fun Race  - CANCELLED
DESCRIPTION:This Race has been Cancelled.  \nRace Application\nOnline Registration – Closed (contact Race Director with Questions or Concerns) \n
URL:https://www.pretzelcitysports.com/calendar_event/race-out-fires-5k-run-1-mile-kids-fun-race/
LOCATION:Community Fire Company of Cornwall Borough\, 50 Rexmont Rd.\, Lebanon\, PA\, 17042
CATEGORIES:5k Road
ORGANIZER;CN="Matthew%20Tsirnikas":MAILTO:cornwallfire@verizon.net
END:VEVENT
END:VCALENDAR