BEGIN:VCALENDAR
VERSION:2.0
PRODID:-//Pretzel City Sports - ECPv5.1.5//NONSGML v1.0//EN
CALSCALE:GREGORIAN
METHOD:PUBLISH
X-WR-CALNAME:Pretzel City Sports
X-ORIGINAL-URL:https://www.pretzelcitysports.com
X-WR-CALDESC:Events for Pretzel City Sports
BEGIN:VTIMEZONE
TZID:America/New_York
BEGIN:DAYLIGHT
TZOFFSETFROM:-0500
TZOFFSETTO:-0400
TZNAME:EDT
DTSTART:20260308T070000
END:DAYLIGHT
BEGIN:STANDARD
TZOFFSETFROM:-0400
TZOFFSETTO:-0500
TZNAME:EST
DTSTART:20261101T060000
END:STANDARD
END:VTIMEZONE
BEGIN:VEVENT
DTSTART;TZID=America/New_York:20260830T090000
DTEND;TZID=America/New_York:20260830T090000
DTSTAMP:20260422T225704
CREATED:20250619T144544Z
LAST-MODIFIED:20260309T150828Z
UID:27220-1788080400-1788080400@www.pretzelcitysports.com
SUMMARY:Run at the Reservoir 5k
DESCRIPTION:Race Application\nOnline Registration \n
URL:https://www.pretzelcitysports.com/calendar_event/run-at-the-reservoir-5k/
LOCATION:Owl Creek Reservoir\, 172 Owl Creek Road\, Tamaqua\, PA\, 18252
CATEGORIES:5k Road
ORGANIZER;CN="Sarah%20Allesch":MAILTO:sarahjane8302@gmail.com
END:VEVENT
END:VCALENDAR