BEGIN:VCALENDAR
VERSION:2.0
PRODID:-//Pretzel City Sports - ECPv5.1.5//NONSGML v1.0//EN
CALSCALE:GREGORIAN
METHOD:PUBLISH
X-WR-CALNAME:Pretzel City Sports
X-ORIGINAL-URL:https://www.pretzelcitysports.com
X-WR-CALDESC:Events for Pretzel City Sports
BEGIN:VTIMEZONE
TZID:America/New_York
BEGIN:DAYLIGHT
TZOFFSETFROM:-0500
TZOFFSETTO:-0400
TZNAME:EDT
DTSTART:20260308T070000
END:DAYLIGHT
BEGIN:STANDARD
TZOFFSETFROM:-0400
TZOFFSETTO:-0500
TZNAME:EST
DTSTART:20261101T060000
END:STANDARD
END:VTIMEZONE
BEGIN:VEVENT
DTSTART;TZID=America/New_York:20260917T184500
DTEND;TZID=America/New_York:20260917T184500
DTSTAMP:20260424T075120
CREATED:20180112T030259Z
LAST-MODIFIED:20251219T175932Z
UID:6896-1789670700-1789670700@www.pretzelcitysports.com
SUMMARY:Third Thirsty Thursday - Evening 5K Race Series - Race 6/7
DESCRIPTION:Race Application\nNote NEW Start Time 6:45 PM  (This Race Date Only) \n \n
URL:https://www.pretzelcitysports.com/calendar_event/third-thirsty-thursday-evening-5k-race-series-race-6-7/
LOCATION:Trooper Thorn’s Irish Beef House\, 451 Morgantown Rd (Rt 10)\, Reading\, PA\, United States
CATEGORIES:5k Road
ORGANIZER;CN="Ron%20Horn":MAILTO:rhornpcs@aol.com
END:VEVENT
END:VCALENDAR