BEGIN:VCALENDAR
VERSION:2.0
PRODID:-//Pretzel City Sports - ECPv5.1.5//NONSGML v1.0//EN
CALSCALE:GREGORIAN
METHOD:PUBLISH
X-WR-CALNAME:Pretzel City Sports
X-ORIGINAL-URL:https://www.pretzelcitysports.com
X-WR-CALDESC:Events for Pretzel City Sports
BEGIN:VTIMEZONE
TZID:America/New_York
BEGIN:DAYLIGHT
TZOFFSETFROM:-0500
TZOFFSETTO:-0400
TZNAME:EDT
DTSTART:20260308T070000
END:DAYLIGHT
BEGIN:STANDARD
TZOFFSETFROM:-0400
TZOFFSETTO:-0500
TZNAME:EST
DTSTART:20261101T060000
END:STANDARD
END:VTIMEZONE
BEGIN:VEVENT
DTSTART;TZID=America/New_York:20260919T090000
DTEND;TZID=America/New_York:20260919T090000
DTSTAMP:20260424T110216
CREATED:20250620T154105Z
LAST-MODIFIED:20260216T152408Z
UID:27233-1789808400-1789808400@www.pretzelcitysports.com
SUMMARY:Denver Fair 5k Run
DESCRIPTION:Race Application\nOnline Registration \n
URL:https://www.pretzelcitysports.com/calendar_event/denver-fair-5k-run/
LOCATION:Denver Memorial Park\, 801 Main St.\, Denver\, PA\, 17517
CATEGORIES:5k Road
ORGANIZER;CN="Aaron%20Pannebecker":MAILTO:Penny1011@ymail.com
END:VEVENT
END:VCALENDAR